BEGIN:VCALENDAR
VERSION:2.0
PRODID:icalendar-ruby
CALSCALE:GREGORIAN
METHOD:PUBLISH
BEGIN:VEVENT
DTSTAMP:20260420T051025Z
UID:36-1082547@allsaints228.tithelysetup5.com
DTSTART:20260420T233000Z
DTEND:20260421T020000Z
CLASS:PUBLIC
CREATED:20260417T135229
DESCRIPTION:Being With is a monthly opportunity for young adults to gather 
 for dinner and conversations around faith. If you are a young adult\, plea
 se join us.
LAST-MODIFIED:20260417T135229
LOCATION:
SUMMARY:Being With
URL;VALUE=URI:https://allsaintscathedral.ca/events/being-with/2026-04-20
ATTACH;FILENAME=Being-WIth.png;FMTTYPE=image/png:https://dq5pwpg1q8ru0.clou
 dfront.net/2025/03/14/19/50/42/8377a82a-ec55-45e5-9cff-ba1615938d1b/Being-
 WIth.png
END:VEVENT
END:VCALENDAR
